Workbook

Sheet Beschreibung
A5: Tabellenkopf (persönliche Angaben)
A7: Bitte füllen Sie ihre persönlichen Daten im Kopf der Abrechnung aus.
A8: Diese Daten werden bei Bedarf auf die weiteren Tabellen übertragen. Die persönlichen Daten werden nur in der Tabelle "Auslagenabrechnung" erfaßt.
A10: Tagesdatum
A12: Für die Erstellung der Auslagenabrechnung tragen Sie bitte immer das jeweilige Tagesdatum ihrer Abwesenheit von zu Hause ein.
A14: Dauer der Abwesenheit
A16: Die Auslagenabrechnung ist so angelegt, dass nur noch die Abwesenheitszeit in Form von 00:00 eingetragen werden muss.
A18: Es werden die Auslagen von 8,00 € für bis zu 8 Std. Abwesenheit und 14,00 € für eine Abwesenheit über 8 Std. durch die Tabelle ausgegeben.
A21: Eine Änderung in den Spalten Fahrtkosten, Tagegeld und Gesamtsumme ist durch den User nicht möglich.
A23: Hauptmahlzeit
A25: Sollte es etwas zu Essen gegeben haben, welches als Hauptmahlzeit zu werten ist,
A26: muss in der Spalte Hauptmahlzeit "Ja" eingetragen werden. Das Tagegeld wird entsprechend
... A52: Das sind die Zellen Fahrtkosten, Tagegeld und Gesamtkosten.

Sheet Auslagenabrechnung
A1: Fußball- und Leichtathletik-Verband
A2: Westfalen e. V. | J2: Personen-Konto-Nr.
B4: Kamen | D4: Auslagen - Abrechnung
B5: Kreis | D5: für den Monat | G5: 2023 | H5: Vor-/Zuname
C7: Straße | H7: PLZ / Wohnort
A9: Funktion im Verband | G9: IBAN:
I10: BIC:
A12: Datum | B12: Art / Zweck der Veranstaltung | D12: Ort | E12: Dauer der | G12: gef. | H12: Fahrt- | I12: Tage- | J12: Gesamt- | K12: Kosten- | L12: Kosten- | P12: Hauptmahl-zeit Ja/Nein
E13: Abwesenheit | G13: km | H13: kosten | I13: geld | J13: summe | K13: stelle | L13: träger ggf.
E14: von | F14: bis | G14: 0.3 | H14: EURO (04667) | I14: EURO (04660) | J14: EURO
H15: =G15*0.3 -> 0 | I15: =IF(OR(E15="", F15=""),"",IF(P15="Ja","0,00",IF(O15>8,14,8))) | J15: =IF(I15="",H15,SUM(H15:I15)) -> 0 | M15: =IF(F15="",0,IF(F15>E15,F15-E15,1+F15-E15)) -> 0 | N15: 1 | O15: =M15*24 -> 0
H16: =G16*0.3 -> 0 | I16: =IF(OR(E16="", F16=""),"",IF(P16="Ja","0,00",IF(O16>8,14,8))) | J16: =IF(I16="",H16,SUM(H16:I16)) -> 0 | M16: =IF(F16="",0,IF(F16>E16,F16-E16,1+F16-E16)) -> 0 | N16: 1 | O16: =M16*24 -> 0
H17: =G17*0.3 -> 0 | I17: =IF(OR(E17="", F17=""),"",IF(P17="Ja","0,00",IF(O17>8,14,8))) | J17: =IF(I17="",H17,SUM(H17:I17)) -> 0 | M17: =IF(F17="",0,IF(F17>E17,F17-E17,1+F17-E17)) -> 0 | N17: 1 | O17: =M17*24 -> 0
H18: =G18*0.3 -> 0 | I18: =IF(OR(E18="", F18=""),"",IF(P18="Ja","0,00",IF(O18>8,14,8))) | J18: =IF(I18="",H18,SUM(H18:I18)) -> 0 | M18: =IF(F18="",0,IF(F18>E18,F18-E18,1+F18-E18)) -> 0 | N18: 1 | O18: =M18*24 -> 0
H19: =G19*0.3 -> 0 | I19: =IF(OR(E19="", F19=""),"",IF(P19="Ja","0,00",IF(O19>8,14,8))) | J19: =IF(I19="",H19,SUM(H19:I19)) -> 0 | M19: =IF(F19="",0,IF(F19>E19,F19-E19,1+F19-E19)) -> 0 | N19: 1 | O19: =M19*24 -> 0
H20: =G20*0.3 -> 0 | I20: =IF(OR(E20="", F20=""),"",IF(P20="Ja","0,00",IF(O20>8,14,8))) | J20: =IF(I20="",H20,SUM(H20:I20)) -> 0 | M20: =IF(F20="",0,IF(F20>E20,F20-E20,1+F20-E20)) -> 0 | N20: 1 | O20: =M20*24 -> 0
H21: =G21*0.3 -> 0 | I21: =IF(OR(E21="", F21=""),"",IF(P21="Ja","0,00",IF(O21>8,14,8))) | J21: =IF(I21="",H21,SUM(H21:I21)) -> 0 | M21: =IF(F21="",0,IF(F21>E21,F21-E21,1+F21-E21)) -> 0 | N21: 1 | O21: =M21*24 -> 0
H22: =G22*0.3 -> 0 | I22: =IF(OR(E22="", F22=""),"",IF(P22="Ja","0,00",IF(O22>8,14,8))) | J22: =IF(I22="",H22,SUM(H22:I22)) -> 0 | M22: =IF(F22="",0,IF(F22>E22,F22-E22,1+F22-E22)) -> 0 | N22: 1 | O22: =M22*24 -> 0
H23: =G23*0.3 -> 0 | I23: =IF(OR(E23="", F23=""),"",IF(P23="Ja","0,00",IF(O23>8,14,8))) | J23: =IF(I23="",H23,SUM(H23:I23)) -> 0 | M23: =IF(F23="",0,IF(F23>E23,F23-E23,1+F23-E23)) -> 0 | N23: 1 | O23: =M23*24 -> 0
H24: =G24*0.3 -> 0 | I24: =IF(OR(E24="", F24=""),"",IF(P24="Ja","0,00",IF(O24>8,14,8))) | J24: =IF(I24="",H24,SUM(H24:I24)) -> 0 | M24: =IF(F24="",0,IF(F24>E24,F24-E24,1+F24-E24)) -> 0 | N24: 1 | O24: =M24*24 -> 0
H25: =G25*0.3 -> 0 | I25: =IF(OR(E25="", F25=""),"",IF(P25="Ja","0,00",IF(O25>8,14,8))) | J25: =IF(I25="",H25,SUM(H25:I25)) -> 0 | M25: =IF(F25="",0,IF(F25>E25,F25-E25,1+F25-E25)) -> 0 | N25: 1 | O25: =M25*24 -> 0
H26: =G26*0.3 -> 0 | I26: =IF(OR(E26="", F26=""),"",IF(P26="Ja","0,00",IF(O26>8,14,8))) | J26: =IF(I26="",H26,SUM(H26:I26)) -> 0 | M26: =IF(F26="",0,IF(F26>E26,F26-E26,1+F26-E26)) -> 0 | N26: 1 | O26: =M26*24 -> 0
... H32: =G32*0.3 -> 0 | I32: =IF(OR(E32="", F32=""),"",IF(P32="Ja","0,00",IF(O32>8,14,8))) | J32: =IF(I32="",H32,SUM(H32:I32)) -> 0 | M32: =IF(F32="",0,IF(F32>E32,F32-E32,1+F32-E32)) -> 0 | N32: 1 | O32: =M32*24 -> 0
H33: =SUM(H15:H32) -> 0 | I33: =SUM(I15:I32) -> 0
A34: Hinweis für die ehrenamtlichen Mitarbeiter: | H34: S u m m e | J34: =SUM(J15:J33) -> 0
A35: Eine evt. Versteuerung der Tagegelder obliegt dem Mitarbeiter. | E35: Anzahl
A36: Unterschrift Mitarbeiter | C36: …………………………..
A37: Porto-Auslagen gem. Anlage (04910) | E37: =IF('Telefon Porto'!D41="",'Telefon Porto'!D43,'Telefon Porto (2)'!D43) -> 0 | J37: =E37 -> 0
A38: Telefon / Internet gem. Anlage (04920) | E38: =IF('Telefon Porto'!H41="",'Telefon Porto'!H43,'Telefon Porto (2)'!H43) -> 0 | J38: =E38 -> 0
A39: Honorar gem. Anlage (04906) | J39: =E39 -> 0
A40: Sonstiges | J40: =E40 -> 0
F43: Gesamt-Auslagen | J43: =SUM(J34:J40) -> 0
A44: Ich versichere, daß mir die eingesetzten Auslagen | G44: EURO
A45: wirklich entstanden und die Angaben richtig sind.
A49: Ort | C49: Datum
A52: Unterschrift Aussteller | E52: Unterschrift Freigabe
R53: .

Sheet Auslagen Übertrag
A1: Fußball- und Leichtathletik-Verband
A2: Westfalen e. V. | J2: Personen-Konto-Nr. | L2: =IF(OR(J15="",Auslagenabrechnung!L2=""),"",Auslagenabrechnung!L2)
B4: Kamen | D4: Auslagen - Abrechnung
B5: Kreis | C5: =IF(OR(J15="",Auslagenabrechnung!C5=""),"",Auslagenabrechnung!C5) | D5: für den Monat | E5: =IF(OR(J15="",Auslagenabrechnung!E5=""),"",Auslagenabrechnung!E5) | G5: 2023 | H5: Vor-/Zuname | I5: =IF(OR(J15="",Auslagenabrechnung!I5=""),"",Auslagenabrechnung!I5)
C7: Straße | D7: =IF(OR(J15="",Auslagenabrechnung!D7=""),"",Auslagenabrechnung!D7) | H7: PLZ / Wohnort | I7: =IF(OR(J15="",Auslagenabrechnung!I7=""),"",Auslagenabrechnung!I7)
A9: Funktion im Verband | C9: =IF(OR(J15="",Auslagenabrechnung!C9=""),"",Auslagenabrechnung!C9) | G9: IBAN: | H9: =IF(J15="","",Auslagenabrechnung!H9)
I10: BIC:
A12: Datum | B12: Art / Zweck der Veranstaltung | D12: Ort | E12: Dauer der | G12: gef. | H12: Fahrt- | I12: Tage- | J12: Gesamt- | K12: Kosten- | L12: Kosten- | P12: Hauptmahl-zeit Ja/Nein
E13: Abwesenheit | G13: km | H13: kosten | I13: geld | J13: summe | K13: stelle | L13: träger ggf.
E14: von | F14: bis | G14: 0.3 | H14: EURO (04667) | I14: EURO (04660) | J14: EURO
B15: Übertrag Seite 1 | H15: =IF(OR(Auslagenabrechnung!E32="",Auslagenabrechnung!F32=""),"",Auslagenabrechnung!H33) | I15: =IF(OR(Auslagenabrechnung!E32="",Auslagenabrechnung!F32=""),"",Auslagenabrechnung!I33) | J15: =IF(I15="",H15,SUM(H15:I15))
H16: =IF(G16="","",G16*0.3) | I16: =IF(OR(E16="", F16=""),"",IF(P16="Ja","0,00",IF(O16>8,14,8))) | J16: =IF(I16="",H16,SUM(H16:I16)) | M16: =IF(F16="",0,IF(F16>E16,F16-E16,1+F16-E16)) -> 0 | N16: 1 | O16: =M16*24 -> 0
H17: =IF(G17="","",G17*0.3) | I17: =IF(OR(E17="", F17=""),"",IF(P17="Ja","0,00",IF(O17>8,14,8))) | J17: =IF(I17="",H17,SUM(H17:I17)) | M17: =IF(F17="",0,IF(F17>E17,F17-E17,1+F17-E17)) -> 0 | N17: 1 | O17: =M17*24 -> 0
H18: =IF(G18="","",G18*0.3) | I18: =IF(OR(E18="", F18=""),"",IF(P18="Ja","0,00",IF(O18>8,14,8))) | J18: =IF(I18="",H18,SUM(H18:I18)) | M18: =IF(F18="",0,IF(F18>E18,F18-E18,1+F18-E18)) -> 0 | N18: 1 | O18: =M18*24 -> 0
H19: =IF(G19="","",G19*0.3) | I19: =IF(OR(E19="", F19=""),"",IF(P19="Ja","0,00",IF(O19>8,14,8))) | J19: =IF(I19="",H19,SUM(H19:I19)) | M19: =IF(F19="",0,IF(F19>E19,F19-E19,1+F19-E19)) -> 0 | N19: 1 | O19: =M19*24 -> 0
H20: =IF(G20="","",G20*0.3) | I20: =IF(OR(E20="", F20=""),"",IF(P20="Ja","0,00",IF(O20>8,14,8))) | J20: =IF(I20="",H20,SUM(H20:I20)) | M20: =IF(F20="",0,IF(F20>E20,F20-E20,1+F20-E20)) -> 0 | N20: 1 | O20: =M20*24 -> 0
H21: =IF(G21="","",G21*0.3) | I21: =IF(OR(E21="", F21=""),"",IF(P21="Ja","0,00",IF(O21>8,14,8))) | J21: =IF(I21="",H21,SUM(H21:I21)) | M21: =IF(F21="",0,IF(F21>E21,F21-E21,1+F21-E21)) -> 0 | N21: 1 | O21: =M21*24 -> 0
H22: =IF(G22="","",G22*0.3) | I22: =IF(OR(E22="", F22=""),"",IF(P22="Ja","0,00",IF(O22>8,14,8))) | J22: =IF(I22="",H22,SUM(H22:I22)) | M22: =IF(F22="",0,IF(F22>E22,F22-E22,1+F22-E22)) -> 0 | N22: 1 | O22: =M22*24 -> 0
H23: =IF(G23="","",G23*0.3) | I23: =IF(OR(E23="", F23=""),"",IF(P23="Ja","0,00",IF(O23>8,14,8))) | J23: =IF(I23="",H23,SUM(H23:I23)) | M23: =IF(F23="",0,IF(F23>E23,F23-E23,1+F23-E23)) -> 0 | N23: 1 | O23: =M23*24 -> 0
H24: =IF(G24="","",G24*0.3) | I24: =IF(OR(E24="", F24=""),"",IF(P24="Ja","0,00",IF(O24>8,14,8))) | J24: =IF(I24="",H24,SUM(H24:I24)) | M24: =IF(F24="",0,IF(F24>E24,F24-E24,1+F24-E24)) -> 0 | N24: 1 | O24: =M24*24 -> 0
H25: =IF(G25="","",G25*0.3) | I25: =IF(OR(E25="", F25=""),"",IF(P25="Ja","0,00",IF(O25>8,14,8))) | J25: =IF(I25="",H25,SUM(H25:I25)) | M25: =IF(F25="",0,IF(F25>E25,F25-E25,1+F25-E25)) -> 0 | N25: 1 | O25: =M25*24 -> 0
H26: =IF(G26="","",G26*0.3) | I26: =IF(OR(E26="", F26=""),"",IF(P26="Ja","0,00",IF(O26>8,14,8))) | J26: =IF(I26="",H26,SUM(H26:I26)) | M26: =IF(F26="",0,IF(F26>E26,F26-E26,1+F26-E26)) -> 0 | N26: 1 | O26: =M26*24 -> 0
H27: =IF(G27="","",G27*0.3) | I27: =IF(OR(E27="", F27=""),"",IF(P27="Ja","0,00",IF(O27>8,14,8))) | J27: =IF(I27="",H27,SUM(H27:I27)) | M27: =IF(F27="",0,IF(F27>E27,F27-E27,1+F27-E27)) -> 0 | N27: 1 | O27: =M27*24 -> 0
M28: =IF(F28="",0,IF(F28>E28,F28-E28,1+F28-E28)) -> 0 | N28: 1 | O28: =M28*24 -> 0
H29: =IF(G29="","",G29*0.3) | I29: =IF(OR(E29="", F29=""),"",IF(P29="Ja","0,00",IF(O29>8,14,8))) | J29: =IF(I29="",H29,SUM(H29:I29)) | M29: =IF(F29="",0,IF(F29>E29,F29-E29,1+F29-E29)) -> 0 | N29: 1 | O29: =M29*24 -> 0
H30: =IF(G30="","",G30*0.3) | I30: =IF(OR(E30="", F30=""),"",IF(P30="Ja","0,00",IF(O30>8,14,8))) | J30: =IF(I30="",H30,SUM(H30:I30)) | M30: =IF(F30="",0,IF(F30>E30,F30-E30,1+F30-E30)) -> 0 | N30: 1 | O30: =M30*24 -> 0
H31: =IF(G31="","",G31*0.3) | I31: =IF(OR(E31="", F31=""),"",IF(P31="Ja","0,00",IF(O31>8,14,8))) | J31: =IF(I31="",H31,SUM(H31:I31)) | M31: =IF(F31="",0,IF(F31>E31,F31-E31,1+F31-E31)) -> 0 | N31: 1 | O31: =M31*24 -> 0
H32: =IF(G32="","",G32*0.3) | I32: =IF(OR(E32="", F32=""),"",IF(P32="Ja","0,00",IF(O32>8,14,8))) | J32: =IF(I32="",H32,SUM(H32:I32)) | M32: =IF(F32="",0,IF(F32>E32,F32-E32,1+F32-E32)) -> 0 | N32: 1 | O32: =M32*24 -> 0
H33: =IF(H15="","",SUM(H15:H32)) | I33: =IF(I15="","",SUM(I15:I32))
A34: Hinweis für die ehrenamtlichen Mitarbeiter: | H34: S u m m e | J34: =IF(J15="","",SUM(J15:J33))
A35: Eine evt. Versteuerung der Tagegelder obliegt dem Mitarbeiter. | E35: Anzahl
A36: Unterschrift Mitarbeiter | C36: …………………………..
A37: Porto-Auslagen gem. Anlage (04910) | E37: =IF(OR(H15="",I15=""),"",Auslagenabrechnung!E37) | J37: =E37
A38: Telefon / Internet gem. Anlage (04920) | E38: =IF(OR(H15="",I15=""),"",Auslagenabrechnung!E38) | J38: =E38
A39: Honorar gem. Anlage (04906) | E39: =IF(OR(H15="",I15=""),"",Auslagenabrechnung!E39) | J39: =E39
A40: Sonstiges | E40: =IF(OR(H16="",I16=""),"",Auslagenabrechnung!E40) | J40: =E40
F43: Gesamt-Auslagen | J43: =IF(J15="","",SUM(J34:J40))
A44: Ich versichere, daß mir die eingesetzten Auslagen | G44: EURO
A45: wirklich entstanden und die Angaben richtig sind.
A47: =IF(J15 ="","",Auslagenabrechnung!A47)
A49: Ort | C49: Datum
A52: Unterschrift Aussteller | E52: Unterschrift Freigabe
R53: .

Sheet Telefon  Porto
A1: Fussball- und Leichtathletik-Verband Westfalen e.V.
A2: Verband/Kreis | C2: =IF(AND(D17="",H17=""),"",Auslagenabrechnung!C5)
A4: Porto/Telefon-Abrechnung | D4: Monat | E4: =IF(AND(D17="",H17=""),"",Auslagenabrechnung!E5)
A6: Personen-Konto-Nr. | D6: Funktion im Verband: | F6: =IF(AND(D17="",H17=""),"",Auslagenabrechnung!C9)
A7: =IF(AND(D17="",H17=""),"",Auslagenabrechnung!L2)
A9: Vor- und Zuname | C9: =IF(AND(D17="",H17=""),"",Auslagenabrechnung!I5)
A12: Strasse | B12: =IF(AND(D17="",H17=""),"",Auslagenabrechnung!D7) | D12: Wohnort | E12: =IF(AND(D17="",H17=""),"",Auslagenabrechnung!I7)
A14: Porto | E14: Telefon
A15: Datum | B15: Empfänger | C15: Art der | D15: Ausgaben | E15: Datum | F15: Empfänger | G15: Einheiten | H15: Ausgaben
C16: Sendung | D16: EUR | H16: EUR
C43: Summe 1 | D43: =SUM(D17:D41) -> 0 | G43: Summe 2 | H43: =SUM(H17:H41) -> 0
E45: Summe1+2 | G45: Gesamt | H45: =D43+H43 -> 0

Sheet Telefon  Porto (2)
A1: Fussball- und Leichtathletik-Verband Westfalen e.V.
A2: Verband/Kreis | C2: =IF(OR(D17="",H17=""),"",Auslagenabrechnung!C5)
A4: Porto/Telefon-Abrechnung | D4: Monat | E4: =IF(OR(D17="",H17=""),"",Auslagenabrechnung!E5)
A6: Personen-Konto-Nr. | D6: Funktion im Verband: | F6: =IF(OR(D17="",H17=""),"",Auslagenabrechnung!C9)
A7: =IF(OR(D17="",H17=""),"",Auslagenabrechnung!L2)
A9: Vor- und Zuname | C9: =IF(OR(D17="",H17=""),"",Auslagenabrechnung!I5)
A12: Strasse | B12: =IF(OR(D17="",H17=""),"",Auslagenabrechnung!D7) | D12: Wohnort | E12: =IF(OR(D17="",H17=""),"",Auslagenabrechnung!I7)
A14: Porto | E14: Telefon
A15: Datum | B15: Empfänger | C15: Art der | D15: Ausgaben | E15: Datum | F15: Empfänger | G15: Einheiten | H15: Ausgaben
C16: Sendung | D16: EUR | H16: EUR
B17: Übertrag S1 | D17: =IF('Telefon Porto'!D41="","",'Telefon Porto'!D43) | F17: Übertrag S1 | H17: =IF('Telefon Porto'!H41="","",'Telefon Porto'!H43)
C43: Summe 1 | D43: =SUM(D17:D41) -> 0 | G43: Summe 2 | H43: =SUM(H17:H41) -> 0
E45: Summe1+2 | G45: Gesamt | H45: =D43+H43 -> 0

Sheet Passwörter
A2: Tabelle 1 | B2: Fibu1
A3: Tabelle 2 | B3: Fibu2
A4: Tabelle 3 | B4: Fibu3
A5: Tabelle 4 | B5: Fibu4
